BEGIN:VCALENDAR
VERSION:2.0
PRODID:-//Sunrise MarketPlace - ECPv4.9.7//NONSGML v1.0//EN
CALSCALE:GREGORIAN
METHOD:PUBLISH
X-WR-CALNAME:Sunrise MarketPlace
X-ORIGINAL-URL:https://sunrisemarketplace.com
X-WR-CALDESC:Events for Sunrise MarketPlace
BEGIN:VTIMEZONE
TZID:"America/Los_Angeles"
BEGIN:DAYLIGHT
TZOFFSETFROM:-0800
TZOFFSETTO:-0700
TZNAME:PDT
DTSTART:20230312T100000
END:DAYLIGHT
BEGIN:STANDARD
TZOFFSETFROM:-0700
TZOFFSETTO:-0800
TZNAME:PST
DTSTART:20231105T090000
END:STANDARD
END:VTIMEZONE
BEGIN:VEVENT
DTSTART;TZID="America/Los_Angeles":20230218T110000
DTEND;TZID="America/Los_Angeles":20230218T150000
DTSTAMP:20260421T190532
CREATED:20230130T180804Z
LAST-MODIFIED:20230130T180804Z
UID:5890-1676718000-1676732400@sunrisemarketplace.com
SUMMARY:Be Well at Birdcage
DESCRIPTION:Free health\, wellness\, & safety fair. First Responders\, Safety Demos\, Self-Care Makers Market\, Health Screenings\, Fitness Classes\, Raffle Prizes & More! \n
URL:https://sunrisemarketplace.com/event/be-well-at-birdcage/
LOCATION:Marketplace At Birdcage\, 5975 Birdcage Centre Lane\, Citrus Heights\, CA\, 95610\, United States
ATTACH;FMTTYPE=image/jpeg:https://sunrisemarketplace.com/wp-content/uploads/2023/01/be-well.jpg
GEO:38.6747985;-121.2740458
X-APPLE-STRUCTURED-LOCATION;VALUE=URI;X-ADDRESS=Marketplace At Birdcage 5975 Birdcage Centre Lane Citrus Heights CA 95610 United States;X-APPLE-RADIUS=500;X-TITLE=5975 Birdcage Centre Lane:geo:-121.2740458,38.6747985
END:VEVENT
END:VCALENDAR