BEGIN:VCALENDAR
VERSION:2.0
PRODID:-//Sunrise MarketPlace - ECPv4.9.7//NONSGML v1.0//EN
CALSCALE:GREGORIAN
METHOD:PUBLISH
X-WR-CALNAME:Sunrise MarketPlace
X-ORIGINAL-URL:https://sunrisemarketplace.com
X-WR-CALDESC:Events for Sunrise MarketPlace
BEGIN:VTIMEZONE
TZID:"America/Los_Angeles"
BEGIN:DAYLIGHT
TZOFFSETFROM:-0800
TZOFFSETTO:-0700
TZNAME:PDT
DTSTART:20180311T100000
END:DAYLIGHT
BEGIN:STANDARD
TZOFFSETFROM:-0700
TZOFFSETTO:-0800
TZNAME:PST
DTSTART:20181104T090000
END:STANDARD
END:VTIMEZONE
BEGIN:VEVENT
DTSTART;TZID="America/Los_Angeles":20181021T110000
DTEND;TZID="America/Los_Angeles":20181021T190000
DTSTAMP:20260421T083255
CREATED:20180926T233046Z
LAST-MODIFIED:20180926T233659Z
UID:2917-1540119600-1540148400@sunrisemarketplace.com
SUMMARY:Bridal Expo at Sunrise Mall
DESCRIPTION:Meet with exhibitors to help with your wedding plans such as florists\, DJ’s\, caterers\, wedding planners\, photographers\, videographers\, health and beauty\, equipment rentals\, wedding attire\, mortgage and/or real estate\, officiants\, musicians and more. \nThe Bridal Expo will be located in the JCPenny court. \n
URL:https://sunrisemarketplace.com/event/bridal-expo-at-sunrise-mall/
LOCATION:Sunrise Mall\, 6041 Sunrise Mall\, Citrus Heights\, CA\, 95610\, United States
ATTACH;FMTTYPE=image/jpeg:https://sunrisemarketplace.com/wp-content/uploads/2018/09/primary-Bridal-Expo-Falls-Event-Center-Elk-Grove-1485639699-400x218.jpg
GEO:38.674383;-121.2689566
X-APPLE-STRUCTURED-LOCATION;VALUE=URI;X-ADDRESS=Sunrise Mall 6041 Sunrise Mall Citrus Heights CA 95610 United States;X-APPLE-RADIUS=500;X-TITLE=6041 Sunrise Mall:geo:-121.2689566,38.674383
END:VEVENT
END:VCALENDAR