BEGIN:VCALENDAR
VERSION:2.0
PRODID:-//Sunrise MarketPlace - ECPv4.9.7//NONSGML v1.0//EN
CALSCALE:GREGORIAN
METHOD:PUBLISH
X-WR-CALNAME:Sunrise MarketPlace
X-ORIGINAL-URL:https://sunrisemarketplace.com
X-WR-CALDESC:Events for Sunrise MarketPlace
BEGIN:VTIMEZONE
TZID:"America/Los_Angeles"
BEGIN:DAYLIGHT
TZOFFSETFROM:-0800
TZOFFSETTO:-0700
TZNAME:PDT
DTSTART:20180311T100000
END:DAYLIGHT
BEGIN:STANDARD
TZOFFSETFROM:-0700
TZOFFSETTO:-0800
TZNAME:PST
DTSTART:20181104T090000
END:STANDARD
END:VTIMEZONE
BEGIN:VEVENT
DTSTART;TZID="America/Los_Angeles":20180505T150000
DTEND;TZID="America/Los_Angeles":20180506T000000
DTSTAMP:20260423T054434
CREATED:20180420T204023Z
LAST-MODIFIED:20180423T203308Z
UID:2545-1525532400-1525564800@sunrisemarketplace.com
SUMMARY:Cinco de Mayo Celebration at El Tapatio
DESCRIPTION:Grab your dancing shoes and join us for a night of delicious food\, drinking\, music\, and dancing. We’re celebrating with street tacos\, margaritas\, beer\, and hot dogs\, too. \nEl Tapatio \n5637 Sunrise Blvd\, Citrus Heights CA 95610 \n(916) 967-2900 \n  \nFor more information\, visit El Tapatio’s\, Facebook Page. \n  \n
URL:https://sunrisemarketplace.com/event/cinco-de-mayo-celebration/
LOCATION:El Tapatio\, 5637 Sunrise Blvd\, Citrus Heights\, CA\, 95610\, United States
ATTACH;FMTTYPE=image/jpeg:https://sunrisemarketplace.com/wp-content/uploads/2018/04/30171415_1000104806822438_3914466279700279714_o.jpg
GEO:38.6688797;-121.2731694
X-APPLE-STRUCTURED-LOCATION;VALUE=URI;X-ADDRESS=El Tapatio 5637 Sunrise Blvd Citrus Heights CA 95610 United States;X-APPLE-RADIUS=500;X-TITLE=5637 Sunrise Blvd:geo:-121.2731694,38.6688797
END:VEVENT
END:VCALENDAR