BEGIN:VCALENDAR
VERSION:2.0
PRODID:-//Sunrise MarketPlace - ECPv4.9.7//NONSGML v1.0//EN
CALSCALE:GREGORIAN
METHOD:PUBLISH
X-WR-CALNAME:Sunrise MarketPlace
X-ORIGINAL-URL:https://sunrisemarketplace.com
X-WR-CALDESC:Events for Sunrise MarketPlace
BEGIN:VTIMEZONE
TZID:"UTC"
BEGIN:STANDARD
TZOFFSETFROM:+0000
TZOFFSETTO:+0000
TZNAME:UTC
DTSTART:20180101T000000
END:STANDARD
END:VTIMEZONE
BEGIN:VEVENT
DTSTART;TZID="UTC":20180920T193000
DTEND;TZID="UTC":20180924T183000
DTSTAMP:20260421T114640
CREATED:20170913T065436Z
LAST-MODIFIED:20180823T184944Z
UID:1944-1537471800-1537813800@sunrisemarketplace.com
SUMMARY:Circus Vargas - Dreaming of Pirates
DESCRIPTION:The Big One is Back! Circus Vargas delivers the ultimate entertainment extravaganza for 2018! \nJoin us at Sunrise Mall for a swashbuckling circus spectacular\, “Dreaming of Pirates!”\, a fantastic voyage of nonstop action and adventure guaranteed to thrill and enchant children of all ages!  Flying trapeze artists\, clowns\, daredevils\, death-defying acrobats\, jugglers\, contortionists\, comedians\, motorcycles and much more! \nBUY DISCOUNTED TICKETS NOW!\nKids $10 | $15 Adults\nhttps://www.benalishrine.org/store/c7/Ben_Ali_Shrine_%2F_Vargas_Circus.html\nFor questions about Ben Ali Shrine ticket sales call 916-920-4107. \nProceeds go to Ben Ali Shrine\, to help support Shriners Hospital for Children. Funds are shared with various non-profit projects\, with the main focus on supporting the patients and families of Shriners Hospital in Sacramento. \nSHOW DATES & TIMES: \nThursday\, September 20 | 7:30 PM \nFriday\, September 21 | 7:30 PM \nSaturday\, September 22 | 1:00 PM\, 4:00 PM\, 7:30 PM \nSunday\, September 23 | 12:30 PM\, 3:30 PM\, 7:00 PM \nMonday\, September 24 | 6:30 PM \n
URL:https://sunrisemarketplace.com/event/circus-vargas/
LOCATION:Sunrise Mall\, 6041 Sunrise Mall\, Citrus Heights\, CA\, 95610\, United States
ATTACH;FMTTYPE=image/jpeg:https://sunrisemarketplace.com/wp-content/uploads/2017/09/Big-One-Is-Back-2018.jpg
GEO:38.674383;-121.2689566
X-APPLE-STRUCTURED-LOCATION;VALUE=URI;X-ADDRESS=Sunrise Mall 6041 Sunrise Mall Citrus Heights CA 95610 United States;X-APPLE-RADIUS=500;X-TITLE=6041 Sunrise Mall:geo:-121.2689566,38.674383
END:VEVENT
END:VCALENDAR