BEGIN:VCALENDAR
VERSION:2.0
PRODID:-//Sunrise MarketPlace - ECPv4.9.7//NONSGML v1.0//EN
CALSCALE:GREGORIAN
METHOD:PUBLISH
X-WR-CALNAME:Sunrise MarketPlace
X-ORIGINAL-URL:https://sunrisemarketplace.com
X-WR-CALDESC:Events for Sunrise MarketPlace
BEGIN:VTIMEZONE
TZID:"America/Los_Angeles"
BEGIN:DAYLIGHT
TZOFFSETFROM:-0800
TZOFFSETTO:-0700
TZNAME:PDT
DTSTART:20190310T100000
END:DAYLIGHT
BEGIN:STANDARD
TZOFFSETFROM:-0700
TZOFFSETTO:-0800
TZNAME:PST
DTSTART:20191103T090000
END:STANDARD
END:VTIMEZONE
BEGIN:VEVENT
DTSTART;TZID="America/Los_Angeles":20190511T190000
DTEND;TZID="America/Los_Angeles":20190511T220000
DTSTAMP:20260423T014236
CREATED:20190305T002745Z
LAST-MODIFIED:20190411T174552Z
UID:3175-1557601200-1557612000@sunrisemarketplace.com
SUMMARY:Citrus Town Center Summer Movie Nights
DESCRIPTION:More information coming! \nCitrus Town Center Summer Movie Nights are scheduled for: \nMay Movie Night – 7 PM on May 11\, 2019\nJune Movie Night – 7 PM on June 8\, 2019\nJuly Movie Night – 7 PM on July 13\, 2019\nAugust Movie Night – 7 PM on August 10\, 2019\nSeptember Movie Night – 7 PM on September 14\, 2019 \n
URL:https://sunrisemarketplace.com/event/citrus-town-center-summer-movie-nights/2019-05-11/
LOCATION:Citrus Town Center\, 7925 Greenback Lane\, Citrus Heights\, CA\, 95610\, United States
ATTACH;FMTTYPE=image/jpeg:https://sunrisemarketplace.com/wp-content/uploads/2019/03/CTC-Movies-3.jpeg
GEO:38.6788093;-121.2698558
X-APPLE-STRUCTURED-LOCATION;VALUE=URI;X-ADDRESS=Citrus Town Center 7925 Greenback Lane Citrus Heights CA 95610 United States;X-APPLE-RADIUS=500;X-TITLE=7925 Greenback Lane:geo:-121.2698558,38.6788093
END:VEVENT
END:VCALENDAR