BEGIN:VCALENDAR
VERSION:2.0
PRODID:-//Sunrise MarketPlace - ECPv4.9.7//NONSGML v1.0//EN
CALSCALE:GREGORIAN
METHOD:PUBLISH
X-WR-CALNAME:Sunrise MarketPlace
X-ORIGINAL-URL:https://sunrisemarketplace.com
X-WR-CALDESC:Events for Sunrise MarketPlace
BEGIN:VTIMEZONE
TZID:"America/Los_Angeles"
BEGIN:DAYLIGHT
TZOFFSETFROM:-0800
TZOFFSETTO:-0700
TZNAME:PDT
DTSTART:20180311T100000
END:DAYLIGHT
BEGIN:STANDARD
TZOFFSETFROM:-0700
TZOFFSETTO:-0800
TZNAME:PST
DTSTART:20181104T090000
END:STANDARD
END:VTIMEZONE
BEGIN:VEVENT
DTSTART;TZID="America/Los_Angeles":20180428T090000
DTEND;TZID="America/Los_Angeles":20180428T150000
DTSTAMP:20260422T214211
CREATED:20180423T085941Z
LAST-MODIFIED:20180423T210542Z
UID:2551-1524906000-1524927600@sunrisemarketplace.com
SUMMARY:Cruisin’ for Kids Show n' Shine
DESCRIPTION:The Cappuccino Cruisers present;\nSPRING FEVER – Cruisin for Kids\nA pre-1974 Classic Car Show to Benefit Shriner’s Hospitals for Children. Fun for the whole family! \nSaturday\, April 28\, 2018   ~  10 am – 3 pm \n  \n  \nLowes Home Improvement \n7840 Greenback lane & Sunrise Blvd. \n  \n2018_Cruising_for_Kids_FLYER \n
URL:https://sunrisemarketplace.com/event/cruisin-for-kids-by-cappucino-cruisers-classics-car-club/
LOCATION:Lowe’s\, 7840 Greenback Lane\, Citrus Heights\, CA\, 95610\, United States
ATTACH;FMTTYPE=image/jpeg:https://sunrisemarketplace.com/wp-content/uploads/2018/04/2018_Cruising_for_Kids_image.jpg
GEO:38.6772765;-121.2735923
X-APPLE-STRUCTURED-LOCATION;VALUE=URI;X-ADDRESS=Lowe’s 7840 Greenback Lane Citrus Heights CA 95610 United States;X-APPLE-RADIUS=500;X-TITLE=7840 Greenback Lane:geo:-121.2735923,38.6772765
END:VEVENT
END:VCALENDAR