BEGIN:VCALENDAR
VERSION:2.0
PRODID:-//Sunrise MarketPlace - ECPv4.9.7//NONSGML v1.0//EN
CALSCALE:GREGORIAN
METHOD:PUBLISH
X-WR-CALNAME:Sunrise MarketPlace
X-ORIGINAL-URL:https://sunrisemarketplace.com
X-WR-CALDESC:Events for Sunrise MarketPlace
BEGIN:VTIMEZONE
TZID:"America/Los_Angeles"
BEGIN:DAYLIGHT
TZOFFSETFROM:-0800
TZOFFSETTO:-0700
TZNAME:PDT
DTSTART:20180311T100000
END:DAYLIGHT
BEGIN:STANDARD
TZOFFSETFROM:-0700
TZOFFSETTO:-0800
TZNAME:PST
DTSTART:20181104T090000
END:STANDARD
END:VTIMEZONE
BEGIN:VEVENT
DTSTART;TZID="America/Los_Angeles":20181026T160000
DTEND;TZID="America/Los_Angeles":20181104T220000
DTSTAMP:20260423T090040
CREATED:20180924T151555Z
LAST-MODIFIED:20180924T152841Z
UID:2901-1540569600-1541368800@sunrisemarketplace.com
SUMMARY:Fall Carnival at Sunrise Mall
DESCRIPTION:\n\n\n\n\n\n\nTIME FOR SOME FALL FUN! CARNIVAL RIDES AND GAME BOOTHS FOR KIDS OF ALL AGES!\n\n\n\n\n\n\n\n\n\nFriday\, October 26 | 4 PM – 10 PM\nSaturday\, October 27 | 12 PM – 10 PM\nSunday\, October 28 | 12 PM – 10 PM\nMonday\, October 29 | 4 PM – 10 PM\nTuesday\, October 30 | 4 PM – 10 PM\nWednesday\, October 31 | 4 PM – 10 PM\nThursday\, November 1 | 4 PM – 10 PM\nFriday\, November 2 | 4 PM – 10 PM\nSaturday\, November 3 | 12 PM – 10 PM\nSunday\, November 4 | 12 PM – 10 PM \n\nTICKET PRICES\n“Pay One Price” POP Wristband *$30 (unlimited rides)\n1 Ticket $1.30\n20 Tickets $25.00\n50 Tickets $52.50 \n*Rides accept 3-5 tickets. Cash only. Game booth prices are separate.\n*Hours and prices subject to change\, weather permitting.\n*All rides are owned and operated by Brass Ring Amusements. \nPurchase Season Passes & Tickets at www.midwayoffun.com. \n\n\n\n
URL:https://sunrisemarketplace.com/event/fall-carnival-at-sunrise-mall/
LOCATION:Sunrise Mall\, 6041 Sunrise Mall\, Citrus Heights\, CA\, 95610\, United States
ATTACH;FMTTYPE=image/jpeg:https://sunrisemarketplace.com/wp-content/uploads/2018/09/Carnival-Image-Ferris-Wheel.jpg
GEO:38.674383;-121.2689566
X-APPLE-STRUCTURED-LOCATION;VALUE=URI;X-ADDRESS=Sunrise Mall 6041 Sunrise Mall Citrus Heights CA 95610 United States;X-APPLE-RADIUS=500;X-TITLE=6041 Sunrise Mall:geo:-121.2689566,38.674383
END:VEVENT
END:VCALENDAR