BEGIN:VCALENDAR
VERSION:2.0
PRODID:-//Sunrise MarketPlace - ECPv4.9.7//NONSGML v1.0//EN
CALSCALE:GREGORIAN
METHOD:PUBLISH
X-WR-CALNAME:Sunrise MarketPlace
X-ORIGINAL-URL:https://sunrisemarketplace.com
X-WR-CALDESC:Events for Sunrise MarketPlace
BEGIN:VTIMEZONE
TZID:"America/Los_Angeles"
BEGIN:DAYLIGHT
TZOFFSETFROM:-0800
TZOFFSETTO:-0700
TZNAME:PDT
DTSTART:20210314T100000
END:DAYLIGHT
BEGIN:STANDARD
TZOFFSETFROM:-0700
TZOFFSETTO:-0800
TZNAME:PST
DTSTART:20211107T090000
END:STANDARD
END:VTIMEZONE
BEGIN:VEVENT
DTSTART;TZID="America/Los_Angeles":20211023T110000
DTEND;TZID="America/Los_Angeles":20211023T160000
DTSTAMP:20260421T101050
CREATED:20211007T200442Z
LAST-MODIFIED:20211007T200442Z
UID:5093-1634986800-1635004800@sunrisemarketplace.com
SUMMARY:Harvest Festival Car Show
DESCRIPTION:
URL:https://sunrisemarketplace.com/event/harvest-festival-car-show/
LOCATION:Sunrise Mall\, 6041 Sunrise Mall\, Citrus Heights\, CA\, 95610\, United States
CATEGORIES:Holiday
ATTACH;FMTTYPE=image/jpeg:https://sunrisemarketplace.com/wp-content/uploads/2021/10/SMP-harvest-fest-car-show-2021.jpg
GEO:38.674383;-121.2689566
X-APPLE-STRUCTURED-LOCATION;VALUE=URI;X-ADDRESS=Sunrise Mall 6041 Sunrise Mall Citrus Heights CA 95610 United States;X-APPLE-RADIUS=500;X-TITLE=6041 Sunrise Mall:geo:-121.2689566,38.674383
END:VEVENT
END:VCALENDAR