BEGIN:VCALENDAR
VERSION:2.0
PRODID:-//Sunrise MarketPlace - ECPv4.9.7//NONSGML v1.0//EN
CALSCALE:GREGORIAN
METHOD:PUBLISH
X-WR-CALNAME:Sunrise MarketPlace
X-ORIGINAL-URL:https://sunrisemarketplace.com
X-WR-CALDESC:Events for Sunrise MarketPlace
BEGIN:VTIMEZONE
TZID:"America/Los_Angeles"
BEGIN:DAYLIGHT
TZOFFSETFROM:-0800
TZOFFSETTO:-0700
TZNAME:PDT
DTSTART:20180311T100000
END:DAYLIGHT
BEGIN:STANDARD
TZOFFSETFROM:-0700
TZOFFSETTO:-0800
TZNAME:PST
DTSTART:20181104T090000
END:STANDARD
END:VTIMEZONE
BEGIN:VEVENT
DTSTART;TZID="America/Los_Angeles":20180215T183000
DTEND;TZID="America/Los_Angeles":20180215T200000
DTSTAMP:20260423T034713
CREATED:20180129T001246Z
LAST-MODIFIED:20180129T001349Z
UID:2348-1518719400-1518724800@sunrisemarketplace.com
SUMMARY:Sacramento Choral Society Sing-a-Thon
DESCRIPTION:Join us for the 20th Annual Sing-a-Thon performed by the members of the Sacramento Choral Society\, led by Donald Kendrick\, Conductor and Ryan Enright\, Accompanist in the Macy’s Women’s Court. Enjoy Broadway Music and Love Songs…. Merriment Guaranteed! \nThe SCSO\, a California educational 501 c (3) non-profit organization established in 1996\, is an auditioned\, volunteer chorus of 160+ dedicated singers with a professional orchestra of 55 players committed to the performance\, education\, and appreciation of a wide range of choral orchestral music for the Greater Sacramento Region. \nFor more information about SCSO or to support with an online donation\, visit http://sacramentochoral.com/singathon-2018/. \n
URL:https://sunrisemarketplace.com/event/sacramento-choral-society-sing-thon/
LOCATION:Sunrise Mall\, 6041 Sunrise Mall\, Citrus Heights\, CA\, 95610\, United States
ATTACH;FMTTYPE=image/jpeg:https://sunrisemarketplace.com/wp-content/uploads/2018/01/Sac-Choral-Photo-3-20171.jpg
GEO:38.674383;-121.2689566
X-APPLE-STRUCTURED-LOCATION;VALUE=URI;X-ADDRESS=Sunrise Mall 6041 Sunrise Mall Citrus Heights CA 95610 United States;X-APPLE-RADIUS=500;X-TITLE=6041 Sunrise Mall:geo:-121.2689566,38.674383
END:VEVENT
END:VCALENDAR