BEGIN:VCALENDAR
VERSION:2.0
PRODID:-//Sunrise MarketPlace - ECPv4.9.7//NONSGML v1.0//EN
CALSCALE:GREGORIAN
METHOD:PUBLISH
X-WR-CALNAME:Sunrise MarketPlace
X-ORIGINAL-URL:https://sunrisemarketplace.com
X-WR-CALDESC:Events for Sunrise MarketPlace
BEGIN:VTIMEZONE
TZID:"America/Los_Angeles"
BEGIN:DAYLIGHT
TZOFFSETFROM:-0800
TZOFFSETTO:-0700
TZNAME:PDT
DTSTART:20180311T100000
END:DAYLIGHT
BEGIN:STANDARD
TZOFFSETFROM:-0700
TZOFFSETTO:-0800
TZNAME:PST
DTSTART:20181104T090000
END:STANDARD
END:VTIMEZONE
BEGIN:VEVENT
DTSTART;TZID="America/Los_Angeles":20181108T110000
DTEND;TZID="America/Los_Angeles":20181111T170000
DTSTAMP:20260423T090113
CREATED:20180924T153545Z
LAST-MODIFIED:20180924T192955Z
UID:2905-1541674800-1541955600@sunrisemarketplace.com
SUMMARY:Sacramento SPCA Book Sale
DESCRIPTION:\n\n\n\nFall into a good book! \n\n\n\nThe SPCA’s annual Fall Book Sale will be hosted at Sunrise Mall near Macy’s Men’s Store. All proceeds benefit the animals at the Sacramento SPCA! \nGently Used Book Categories:\nAdventure | Biographies | Children | Cookbooks | Fiction | History Mystery | Nearly New | Romance | Science Fiction | Table Top and more! \nFor information\, contact Kristi Maryman at kmaryman@sspca.org or (916) 504-2802\, or visit sspca.org. \nDONATIONS: Book donations can be made at SPCA’s Adoptions Building located at 6201 Florin-Perkins Road Wednesday through Sunday from 11 AM – 6 PM.\n\n\n\n
URL:https://sunrisemarketplace.com/event/sacramento-spca-book-sale/
ATTACH;FMTTYPE=image/jpeg:https://sunrisemarketplace.com/wp-content/uploads/2018/09/Fall-Booksale.jpg
END:VEVENT
END:VCALENDAR