BEGIN:VCALENDAR
VERSION:2.0
PRODID:-//Sunrise MarketPlace - ECPv4.9.7//NONSGML v1.0//EN
CALSCALE:GREGORIAN
METHOD:PUBLISH
X-WR-CALNAME:Sunrise MarketPlace
X-ORIGINAL-URL:https://sunrisemarketplace.com
X-WR-CALDESC:Events for Sunrise MarketPlace
BEGIN:VTIMEZONE
TZID:"America/Los_Angeles"
BEGIN:DAYLIGHT
TZOFFSETFROM:-0800
TZOFFSETTO:-0700
TZNAME:PDT
DTSTART:20180311T100000
END:DAYLIGHT
BEGIN:STANDARD
TZOFFSETFROM:-0700
TZOFFSETTO:-0800
TZNAME:PST
DTSTART:20181104T090000
END:STANDARD
END:VTIMEZONE
BEGIN:VEVENT
DTSTART;TZID="America/Los_Angeles":20180428T110000
DTEND;TZID="America/Los_Angeles":20180428T150000
DTSTAMP:20260423T000607
CREATED:20180423T085750Z
LAST-MODIFIED:20180424T161242Z
UID:2549-1524913200-1524927600@sunrisemarketplace.com
SUMMARY:Shop Local Day
DESCRIPTION:Shop Local Day\, Saturday\, April 28\, 2018\n \nJoin us at the Elliott’s Fine Nutrition\, Citrus Heights store only for Shop Local Day when we welcome over 20+ LOCAL companies as they present demos and product samplings for our customers. \nCome out to our CITRUS HEIGHTS store for FREE BBQ and drinks\, a massage\, and join in the Family fun\, games\, and Raffle Prizes. \nFree Yoga Class (for more info click here) \n\nShop Local and Your Neighborhood Prospers! \n
URL:https://sunrisemarketplace.com/event/shop-local-day/
LOCATION:Elliot’s Natural Foods\, 8063 Greenback Ln\, Citrus Heights\, CA\, 95621\, United States
ATTACH;FMTTYPE=image/jpeg:https://sunrisemarketplace.com/wp-content/uploads/2018/04/ShopLocal2018_300w.jpg
GEO:38.6793493;-121.2632425
X-APPLE-STRUCTURED-LOCATION;VALUE=URI;X-ADDRESS=Elliot’s Natural Foods 8063 Greenback Ln Citrus Heights CA 95621 United States;X-APPLE-RADIUS=500;X-TITLE=8063 Greenback Ln:geo:-121.2632425,38.6793493
END:VEVENT
END:VCALENDAR