BEGIN:VCALENDAR
VERSION:2.0
PRODID:-//Sunrise MarketPlace - ECPv4.9.7//NONSGML v1.0//EN
CALSCALE:GREGORIAN
METHOD:PUBLISH
X-WR-CALNAME:Sunrise MarketPlace
X-ORIGINAL-URL:https://sunrisemarketplace.com
X-WR-CALDESC:Events for Sunrise MarketPlace
BEGIN:VTIMEZONE
TZID:"America/Los_Angeles"
BEGIN:DAYLIGHT
TZOFFSETFROM:-0800
TZOFFSETTO:-0700
TZNAME:PDT
DTSTART:20180311T100000
END:DAYLIGHT
BEGIN:STANDARD
TZOFFSETFROM:-0700
TZOFFSETTO:-0800
TZNAME:PST
DTSTART:20181104T090000
END:STANDARD
END:VTIMEZONE
BEGIN:VEVENT
DTSTART;TZID="America/Los_Angeles":20181027T130000
DTEND;TZID="America/Los_Angeles":20181027T150000
DTSTAMP:20260421T102419
CREATED:20180924T152937Z
LAST-MODIFIED:20180924T152937Z
UID:2894-1540645200-1540652400@sunrisemarketplace.com
SUMMARY:Sprouts Family Fall Fair at Citrus Town Center - Save the Date
DESCRIPTION:Save the Date! \nCelebrate Fall with Sprouts Farmers Market! Enjoy activities such as hay wagon rides and a prize spinning wheel! It’s fun for all ages! \n\nDate: Saturday\, October 27th\, 2017\nTime: 1pm to 3pm\n\n
URL:https://sunrisemarketplace.com/event/sprouts-family-fall-fair-at-citrus-town-center-save-the-date/
LOCATION:Citrus Town Center\, 7925 Greenback Lane\, Citrus Heights\, CA\, 95610\, United States
ATTACH;FMTTYPE=image/jpeg:https://sunrisemarketplace.com/wp-content/uploads/2018/09/ctcfallholder.jpg
GEO:38.6788093;-121.2698558
X-APPLE-STRUCTURED-LOCATION;VALUE=URI;X-ADDRESS=Citrus Town Center 7925 Greenback Lane Citrus Heights CA 95610 United States;X-APPLE-RADIUS=500;X-TITLE=7925 Greenback Lane:geo:-121.2698558,38.6788093
END:VEVENT
END:VCALENDAR