BEGIN:VCALENDAR
VERSION:2.0
PRODID:-//Sunrise MarketPlace - ECPv4.9.7//NONSGML v1.0//EN
CALSCALE:GREGORIAN
METHOD:PUBLISH
X-WR-CALNAME:Sunrise MarketPlace
X-ORIGINAL-URL:https://sunrisemarketplace.com
X-WR-CALDESC:Events for Sunrise MarketPlace
BEGIN:VTIMEZONE
TZID:"America/Los_Angeles"
BEGIN:DAYLIGHT
TZOFFSETFROM:-0800
TZOFFSETTO:-0700
TZNAME:PDT
DTSTART:20180311T100000
END:DAYLIGHT
BEGIN:STANDARD
TZOFFSETFROM:-0700
TZOFFSETTO:-0800
TZNAME:PST
DTSTART:20181104T090000
END:STANDARD
END:VTIMEZONE
BEGIN:VEVENT
DTSTART;TZID="America/Los_Angeles":20180427T180000
DTEND;TZID="America/Los_Angeles":20180427T210000
DTSTAMP:20260422T200248
CREATED:20180423T085439Z
LAST-MODIFIED:20180423T211720Z
UID:2547-1524852000-1524862800@sunrisemarketplace.com
SUMMARY:Taste of Citrus Heights
DESCRIPTION:If you have never been to a “Taste Of” event\, you are in for a treat! \nA Fundraising Event for GFWC Citrus Heights Women’s Club\n\nApril 27\, 2018\, at 6 PM – 9 PM – Citrus Heights Community Center \nWe’ve invited many local restaurants to offer you samples of their favorite menu items\, desserts\, and their signature cocktail drinks. Wineries and local Breweries will also join us. Walk around enjoying flavors from around Citrus Heights and neighboring areas. Sample as much food and cocktails as you like — its all included in your ticket price. \nThe members of GFWC Citrus Heights Women’s Club has spent countless hours meeting with various restaurants\, caterers and chefs to bring you an amazing collection of food and drinks. We are so proud of the wide array of different flavors and culinary delights available in the Citrus Heights Community. Please note this event is for adults 21 and over only. \nFor more information\, Please visit http://tasteofcitrusheights.com/ \n  \n
URL:https://sunrisemarketplace.com/event/taste-of-citrus-heights/
LOCATION:Citrus Heights Community Center\, 6300 Fountain Square Dr\, Citrus Heights\, CA\, 95621\, United States
ATTACH;FMTTYPE=image/jpeg:https://sunrisemarketplace.com/wp-content/uploads/2018/04/e2490adf-4c35-4994-8526-5b83848bd50e.jpg
GEO:38.6803361;-121.2974658
X-APPLE-STRUCTURED-LOCATION;VALUE=URI;X-ADDRESS=Citrus Heights Community Center 6300 Fountain Square Dr Citrus Heights CA 95621 United States;X-APPLE-RADIUS=500;X-TITLE=6300 Fountain Square Dr:geo:-121.2974658,38.6803361
END:VEVENT
END:VCALENDAR