BEGIN:VCALENDAR
VERSION:2.0
PRODID:-//Sunrise MarketPlace - ECPv4.9.7//NONSGML v1.0//EN
CALSCALE:GREGORIAN
METHOD:PUBLISH
X-WR-CALNAME:Sunrise MarketPlace
X-ORIGINAL-URL:https://sunrisemarketplace.com
X-WR-CALDESC:Events for Sunrise MarketPlace
BEGIN:VTIMEZONE
TZID:"America/Los_Angeles"
BEGIN:DAYLIGHT
TZOFFSETFROM:-0800
TZOFFSETTO:-0700
TZNAME:PDT
DTSTART:20220313T100000
END:DAYLIGHT
BEGIN:STANDARD
TZOFFSETFROM:-0700
TZOFFSETTO:-0800
TZNAME:PST
DTSTART:20221106T090000
END:STANDARD
END:VTIMEZONE
BEGIN:VEVENT
DTSTART;TZID="America/Los_Angeles":20221026T160000
DTEND;TZID="America/Los_Angeles":20221026T200000
DTSTAMP:20260420T062704
CREATED:20220929T181131Z
LAST-MODIFIED:20221002T181800Z
UID:5720-1666800000-1666814400@sunrisemarketplace.com
SUMMARY:Trunk or Treat 2022
DESCRIPTION:
URL:https://sunrisemarketplace.com/event/trunk-or-treat-2022/
LOCATION:Citrus Heights PD\, 6315 Fountain Square Dr\, Citrus Heights\, CA\, 95621\, United States
CATEGORIES:Holiday
ATTACH;FMTTYPE=image/jpeg:https://sunrisemarketplace.com/wp-content/uploads/2022/09/2022-TOT-Poster.jpg
GEO:38.680661;-121.2984888
X-APPLE-STRUCTURED-LOCATION;VALUE=URI;X-ADDRESS=Citrus Heights PD 6315 Fountain Square Dr Citrus Heights CA 95621 United States;X-APPLE-RADIUS=500;X-TITLE=6315 Fountain Square Dr:geo:-121.2984888,38.680661
END:VEVENT
END:VCALENDAR